Package: Rfastp Version: 1.17.0 Command: E:\biocbuild\bbs-3.21-bioc\R\bin\R.exe CMD INSTALL Rfastp StartedAt: 2025-02-09 15:30:44 -0500 (Sun, 09 Feb 2025) EndedAt: 2025-02-09 15:32:37 -0500 (Sun, 09 Feb 2025) EllapsedTime: 112.4 seconds RetCode: 0 Status: OK