Package: RgnTX Version: 1.9.0 Command: /home/biocbuild/R/R/bin/R CMD build --keep-empty-dirs --no-resave-data RgnTX StartedAt: 2025-01-29 01:39:53 -0000 (Wed, 29 Jan 2025) EndedAt: 2025-01-29 01:42:52 -0000 (Wed, 29 Jan 2025) EllapsedTime: 179.1 seconds RetCode: 0 Status: OK PackageFile: RgnTX_1.9.0.tar.gz PackageFileSize: 3.775 MiB