Package: RgnTX Version: 1.9.0 Command: /home/biocbuild/R/R/bin/R CMD INSTALL RgnTX StartedAt: 2025-01-29 19:55:25 -0000 (Wed, 29 Jan 2025) EndedAt: 2025-01-29 19:56:20 -0000 (Wed, 29 Jan 2025) EllapsedTime: 54.8 seconds RetCode: 0 Status: OK