Package: RgnTX Version: 1.9.0 Command: /Library/Frameworks/R.framework/Resources/bin/R CMD build --keep-empty-dirs --no-resave-data RgnTX StartedAt: 2025-02-09 18:09:29 -0500 (Sun, 09 Feb 2025) EndedAt: 2025-02-09 18:12:06 -0500 (Sun, 09 Feb 2025) EllapsedTime: 157.9 seconds RetCode: 0 Status: OK PackageFile: RgnTX_1.9.0.tar.gz PackageFileSize: 3.932 MiB