Package: RgnTX Version: 1.9.0 Command: /Library/Frameworks/R.framework/Resources/bin/R CMD INSTALL RgnTX StartedAt: 2025-02-04 15:22:13 -0500 (Tue, 04 Feb 2025) EndedAt: 2025-02-04 15:23:05 -0500 (Tue, 04 Feb 2025) EllapsedTime: 51.8 seconds RetCode: 0 Status: OK