Package: RgnTX Version: 1.9.0 Command: /home/biocbuild/bbs-3.21-bioc/R/bin/R CMD build --keep-empty-dirs --no-resave-data RgnTX StartedAt: 2025-02-09 18:54:51 -0500 (Sun, 09 Feb 2025) EndedAt: 2025-02-09 18:56:59 -0500 (Sun, 09 Feb 2025) EllapsedTime: 128.2 seconds RetCode: 0 Status: OK PackageFile: RgnTX_1.9.0.tar.gz PackageFileSize: 3.966 MiB