Package: RgnTX Version: 1.9.0 Command: /home/biocbuild/bbs-3.21-bioc/R/bin/R CMD check --install=check:RgnTX.install-out.txt --library=/home/biocbuild/bbs-3.21-bioc/R/site-library --timings RgnTX_1.9.0.tar.gz StartedAt: 2025-02-10 01:52:50 -0500 (Mon, 10 Feb 2025) EndedAt: 2025-02-10 02:02:30 -0500 (Mon, 10 Feb 2025) EllapsedTime: 580.0 seconds RetCode: 0 Status: OK CheckDir: RgnTX.Rcheck Warnings: 0