Package: RgnTX Version: 1.9.0 Command: /home/biocbuild/bbs-3.21-bioc/R/bin/R CMD INSTALL RgnTX StartedAt: 2025-02-09 15:58:02 -0500 (Sun, 09 Feb 2025) EndedAt: 2025-02-09 15:58:44 -0500 (Sun, 09 Feb 2025) EllapsedTime: 41.7 seconds RetCode: 0 Status: OK