Package: RgnTX Version: 1.9.0 Command: rm -rf RgnTX.buildbin-libdir && mkdir RgnTX.buildbin-libdir && E:\biocbuild\bbs-3.21-bioc\R\bin\R.exe CMD INSTALL --build --library=RgnTX.buildbin-libdir RgnTX_1.9.0.tar.gz StartedAt: 2025-02-10 08:32:26 -0500 (Mon, 10 Feb 2025) EndedAt: 2025-02-10 08:33:14 -0500 (Mon, 10 Feb 2025) EllapsedTime: 48.3 seconds RetCode: 0 Status: OK PackageFile: RgnTX_1.9.0.zip PackageFileSize: 2.471 MiB