Package: RgnTX Version: 1.9.0 Command: chmod a+r RgnTX -R && E:\biocbuild\bbs-3.21-bioc\R\bin\R.exe CMD build --keep-empty-dirs --no-resave-data RgnTX StartedAt: 2025-02-09 21:09:35 -0500 (Sun, 09 Feb 2025) EndedAt: 2025-02-09 21:12:05 -0500 (Sun, 09 Feb 2025) EllapsedTime: 150.5 seconds RetCode: 0 Status: OK PackageFile: RgnTX_1.9.0.tar.gz PackageFileSize: 3.698 MiB