Package: RgnTX Version: 1.9.0 Command: E:\biocbuild\bbs-3.21-bioc\R\bin\R.exe CMD INSTALL RgnTX StartedAt: 2025-02-03 16:58:54 -0500 (Mon, 03 Feb 2025) EndedAt: 2025-02-03 16:59:43 -0500 (Mon, 03 Feb 2025) EllapsedTime: 48.8 seconds RetCode: 0 Status: OK