Package: Rgraphviz Version: 2.51.0 Command: rm -rf Rgraphviz.buildbin-libdir && mkdir Rgraphviz.buildbin-libdir && /Users/biocbuild/BBS/utils/build-universal.sh Rgraphviz_2.51.0.tar.gz /Library/Frameworks/R.framework/Resources/bin/R Rgraphviz.buildbin-libdir StartedAt: 2025-02-12 22:32:34 -0500 (Wed, 12 Feb 2025) EndedAt: 2025-02-12 22:34:05 -0500 (Wed, 12 Feb 2025) EllapsedTime: 90.7 seconds RetCode: 0 Status: OK PackageFile: Rgraphviz_2.51.0.tgz PackageFileSize: 1.685 MiB