Package: Rgraphviz Version: 2.51.0 Command: rm -rf Rgraphviz.buildbin-libdir && mkdir Rgraphviz.buildbin-libdir && /Users/biocbuild/BBS/utils/build-universal.sh Rgraphviz_2.51.0.tar.gz /Library/Frameworks/R.framework/Resources/bin/R Rgraphviz.buildbin-libdir StartedAt: 2025-02-10 01:11:42 -0500 (Mon, 10 Feb 2025) EndedAt: 2025-02-10 01:17:14 -0500 (Mon, 10 Feb 2025) EllapsedTime: 332.5 seconds RetCode: 0 Status: OK PackageFile: Rgraphviz_2.51.0.tgz PackageFileSize: 1.76 MiB