Package: Rgraphviz Version: 2.51.0 Command: /Library/Frameworks/R.framework/Resources/bin/R CMD build --keep-empty-dirs --no-resave-data Rgraphviz StartedAt: 2025-02-09 18:09:41 -0500 (Sun, 09 Feb 2025) EndedAt: 2025-02-09 18:13:40 -0500 (Sun, 09 Feb 2025) EllapsedTime: 239.1 seconds RetCode: 0 Status: OK PackageFile: Rgraphviz_2.51.0.tar.gz PackageFileSize: 7.328 MiB