Package: Rgraphviz Version: 2.51.0 Command: /Library/Frameworks/R.framework/Resources/bin/R CMD check --install=check:Rgraphviz.install-out.txt --library=/Library/Frameworks/R.framework/Resources/library --no-vignettes --timings Rgraphviz_2.51.0.tar.gz StartedAt: 2025-02-09 23:05:27 -0500 (Sun, 09 Feb 2025) EndedAt: 2025-02-09 23:06:21 -0500 (Sun, 09 Feb 2025) EllapsedTime: 54.0 seconds RetCode: 0 Status: WARNINGS CheckDir: Rgraphviz.Rcheck Warnings: 2