Package: Rgraphviz Version: 2.51.0 Command: /home/biocbuild/bbs-3.21-bioc/R/bin/R CMD build --keep-empty-dirs --no-resave-data Rgraphviz StartedAt: 2025-02-09 18:54:55 -0500 (Sun, 09 Feb 2025) EndedAt: 2025-02-09 18:56:28 -0500 (Sun, 09 Feb 2025) EllapsedTime: 93.1 seconds RetCode: 0 Status: OK PackageFile: Rgraphviz_2.51.0.tar.gz PackageFileSize: 7.341 MiB