Package: Rgraphviz Version: 2.51.0 Command: E:\biocbuild\bbs-3.21-bioc\R\bin\R.exe CMD INSTALL Rgraphviz StartedAt: 2025-02-12 15:26:40 -0500 (Wed, 12 Feb 2025) EndedAt: 2025-02-12 15:47:40 -0500 (Wed, 12 Feb 2025) EllapsedTime: 1260.0 seconds RetCode: 0 Status: OK