Package: Rhisat2 Version: 1.23.0 Command: rm -rf Rhisat2.buildbin-libdir && mkdir Rhisat2.buildbin-libdir && /Users/biocbuild/BBS/utils/build-universal.sh Rhisat2_1.23.0.tar.gz /Library/Frameworks/R.framework/Resources/bin/R Rhisat2.buildbin-libdir StartedAt: 2025-02-09 22:27:34 -0500 (Sun, 09 Feb 2025) EndedAt: 2025-02-09 22:28:26 -0500 (Sun, 09 Feb 2025) EllapsedTime: 52.9 seconds RetCode: 0 Status: OK PackageFile: Rhisat2_1.23.0.tgz PackageFileSize: 1.091 MiB