Package: Rhisat2 Version: 1.23.0 Command: /Library/Frameworks/R.framework/Resources/bin/R CMD build --keep-empty-dirs --no-resave-data Rhisat2 StartedAt: 2025-02-09 17:24:17 -0500 (Sun, 09 Feb 2025) EndedAt: 2025-02-09 17:25:15 -0500 (Sun, 09 Feb 2025) EllapsedTime: 57.6 seconds RetCode: 0 Status: OK PackageFile: Rhisat2_1.23.0.tar.gz PackageFileSize: 6.745 MiB