Package: Rhisat2 Version: 1.23.0 Command: /Library/Frameworks/R.framework/Resources/bin/R CMD check --install=check:Rhisat2.install-out.txt --library=/Library/Frameworks/R.framework/Resources/library --no-vignettes --timings Rhisat2_1.23.0.tar.gz StartedAt: 2025-02-09 20:57:57 -0500 (Sun, 09 Feb 2025) EndedAt: 2025-02-09 20:59:45 -0500 (Sun, 09 Feb 2025) EllapsedTime: 107.3 seconds RetCode: 0 Status: WARNINGS CheckDir: Rhisat2.Rcheck Warnings: 1