Package: Rhisat2 Version: 1.23.0 Command: /Library/Frameworks/R.framework/Resources/bin/R CMD build --keep-empty-dirs --no-resave-data Rhisat2 StartedAt: 2025-02-12 18:02:55 -0500 (Wed, 12 Feb 2025) EndedAt: 2025-02-12 18:05:45 -0500 (Wed, 12 Feb 2025) EllapsedTime: 169.3 seconds RetCode: 0 Status: OK PackageFile: Rhisat2_1.23.0.tar.gz PackageFileSize: 6.745 MiB