Package: Rhisat2 Version: 1.23.0 Command: /Library/Frameworks/R.framework/Resources/bin/R CMD check --install=check:Rhisat2.install-out.txt --library=/Library/Frameworks/R.framework/Resources/library --no-vignettes --timings Rhisat2_1.23.0.tar.gz StartedAt: 2025-02-09 23:06:21 -0500 (Sun, 09 Feb 2025) EndedAt: 2025-02-09 23:11:27 -0500 (Sun, 09 Feb 2025) EllapsedTime: 306.0 seconds RetCode: 0 Status: WARNINGS CheckDir: Rhisat2.Rcheck Warnings: 1