Package: Rhisat2 Version: 1.23.0 Command: /Library/Frameworks/R.framework/Resources/bin/R CMD INSTALL Rhisat2 StartedAt: 2025-02-12 15:20:54 -0500 (Wed, 12 Feb 2025) EndedAt: 2025-02-12 15:23:47 -0500 (Wed, 12 Feb 2025) EllapsedTime: 172.8 seconds RetCode: 0 Status: OK