Package: Rhisat2 Version: 1.23.0 Command: /home/biocbuild/bbs-3.21-bioc/R/bin/R CMD build --keep-empty-dirs --no-resave-data Rhisat2 StartedAt: 2025-02-12 18:51:32 -0500 (Wed, 12 Feb 2025) EndedAt: 2025-02-12 18:55:18 -0500 (Wed, 12 Feb 2025) EllapsedTime: 226.2 seconds RetCode: 0 Status: OK PackageFile: Rhisat2_1.23.0.tar.gz PackageFileSize: 6.745 MiB