Package: Rhisat2 Version: 1.23.0 Command: E:\biocbuild\bbs-3.21-bioc\R\bin\R.exe CMD check --no-multiarch --install=check:Rhisat2.install-out.txt --library=E:\biocbuild\bbs-3.21-bioc\R\library --no-vignettes --timings Rhisat2_1.23.0.tar.gz StartedAt: 2025-02-13 04:51:29 -0500 (Thu, 13 Feb 2025) EndedAt: 2025-02-13 04:56:52 -0500 (Thu, 13 Feb 2025) EllapsedTime: 323.0 seconds RetCode: 0 Status: WARNINGS CheckDir: Rhisat2.Rcheck Warnings: 1