Package: RiboCrypt Version: 1.13.0 Command: rm -rf RiboCrypt.buildbin-libdir && mkdir RiboCrypt.buildbin-libdir && E:\biocbuild\bbs-3.21-bioc\R\bin\R.exe CMD INSTALL --build --library=RiboCrypt.buildbin-libdir RiboCrypt_1.13.0.tar.gz StartedAt: 2025-02-10 08:33:11 -0500 (Mon, 10 Feb 2025) EndedAt: 2025-02-10 08:34:48 -0500 (Mon, 10 Feb 2025) EllapsedTime: 96.9 seconds RetCode: 0 Status: OK PackageFile: RiboCrypt_1.13.0.zip PackageFileSize: 5.87 MiB