Package: RiboProfiling Version: 1.37.0 Command: /Library/Frameworks/R.framework/Resources/bin/R CMD build --keep-empty-dirs --no-resave-data RiboProfiling StartedAt: 2025-02-09 17:24:29 -0500 (Sun, 09 Feb 2025) EndedAt: 2025-02-09 17:25:44 -0500 (Sun, 09 Feb 2025) EllapsedTime: 74.8 seconds RetCode: 0 Status: OK PackageFile: RiboProfiling_1.37.0.tar.gz PackageFileSize: 4.659 MiB