Package: RiboProfiling Version: 1.37.0 Command: /home/biocbuild/R/R/bin/R CMD build --keep-empty-dirs --no-resave-data RiboProfiling StartedAt: 2025-01-29 01:42:07 -0000 (Wed, 29 Jan 2025) EndedAt: 2025-01-29 01:46:11 -0000 (Wed, 29 Jan 2025) EllapsedTime: 243.2 seconds RetCode: 0 Status: OK PackageFile: RiboProfiling_1.37.0.tar.gz PackageFileSize: 4.489 MiB