Package: RiboProfiling Version: 1.37.0 Command: rm -rf RiboProfiling.buildbin-libdir && mkdir RiboProfiling.buildbin-libdir && /Users/biocbuild/BBS/utils/build-universal.sh RiboProfiling_1.37.0.tar.gz /Library/Frameworks/R.framework/Resources/bin/R RiboProfiling.buildbin-libdir StartedAt: 2025-02-10 01:11:56 -0500 (Mon, 10 Feb 2025) EndedAt: 2025-02-10 01:13:08 -0500 (Mon, 10 Feb 2025) EllapsedTime: 72.3 seconds RetCode: 0 Status: OK PackageFile: RiboProfiling_1.37.0.tgz PackageFileSize: 4.748 MiB