Package: RiboProfiling Version: 1.37.0 Command: /home/biocbuild/bbs-3.21-bioc/R/bin/R CMD build --keep-empty-dirs --no-resave-data RiboProfiling StartedAt: 2025-02-09 18:55:53 -0500 (Sun, 09 Feb 2025) EndedAt: 2025-02-09 18:58:53 -0500 (Sun, 09 Feb 2025) EllapsedTime: 179.2 seconds RetCode: 0 Status: OK PackageFile: RiboProfiling_1.37.0.tar.gz PackageFileSize: 4.667 MiB