Package: RiboProfiling Version: 1.37.0 Command: rm -rf RiboProfiling.buildbin-libdir && mkdir RiboProfiling.buildbin-libdir && E:\biocbuild\bbs-3.21-bioc\R\bin\R.exe CMD INSTALL --build --library=RiboProfiling.buildbin-libdir RiboProfiling_1.37.0.tar.gz StartedAt: 2025-02-05 08:44:26 -0500 (Wed, 05 Feb 2025) EndedAt: 2025-02-05 08:45:35 -0500 (Wed, 05 Feb 2025) EllapsedTime: 68.1 seconds RetCode: 0 Status: OK PackageFile: RiboProfiling_1.37.0.zip PackageFileSize: 4.513 MiB