Package: RiboProfiling Version: 1.37.0 Command: chmod a+r RiboProfiling -R && E:\biocbuild\bbs-3.21-bioc\R\bin\R.exe CMD build --keep-empty-dirs --no-resave-data RiboProfiling StartedAt: 2025-02-04 21:14:29 -0500 (Tue, 04 Feb 2025) EndedAt: 2025-02-04 21:18:40 -0500 (Tue, 04 Feb 2025) EllapsedTime: 251.4 seconds RetCode: 0 Status: OK PackageFile: RiboProfiling_1.37.0.tar.gz PackageFileSize: 4.42 MiB