Package: RiboProfiling Version: 1.37.0 Command: E:\biocbuild\bbs-3.21-bioc\R\bin\R.exe CMD check --no-multiarch --install=check:RiboProfiling.install-out.txt --library=E:\biocbuild\bbs-3.21-bioc\R\library --no-vignettes --timings RiboProfiling_1.37.0.tar.gz StartedAt: 2025-02-05 05:07:59 -0500 (Wed, 05 Feb 2025) EndedAt: 2025-02-05 05:19:34 -0500 (Wed, 05 Feb 2025) EllapsedTime: 695.9 seconds RetCode: 0 Status: WARNINGS CheckDir: RiboProfiling.Rcheck Warnings: 1