Package: Rmagpie Version: 1.63.0 Command: rm -rf Rmagpie.buildbin-libdir && mkdir Rmagpie.buildbin-libdir && /Users/biocbuild/BBS/utils/build-universal.sh Rmagpie_1.63.0.tar.gz /Library/Frameworks/R.framework/Resources/bin/R Rmagpie.buildbin-libdir StartedAt: 2025-02-03 23:03:42 -0500 (Mon, 03 Feb 2025) EndedAt: 2025-02-03 23:03:47 -0500 (Mon, 03 Feb 2025) EllapsedTime: 5.1 seconds RetCode: 0 Status: OK PackageFile: Rmagpie_1.63.0.tgz PackageFileSize: 860.5 KiB