Package: Rmagpie Version: 1.63.0 Command: rm -rf Rmagpie.buildbin-libdir && mkdir Rmagpie.buildbin-libdir && /Users/biocbuild/BBS/utils/build-universal.sh Rmagpie_1.63.0.tar.gz /Library/Frameworks/R.framework/Resources/bin/R Rmagpie.buildbin-libdir StartedAt: 2025-02-10 01:12:16 -0500 (Mon, 10 Feb 2025) EndedAt: 2025-02-10 01:12:37 -0500 (Mon, 10 Feb 2025) EllapsedTime: 20.8 seconds RetCode: 0 Status: OK PackageFile: Rmagpie_1.63.0.tgz PackageFileSize: 858.5 KiB