Package: Rmagpie Version: 1.63.0 Command: /Library/Frameworks/R.framework/Resources/bin/R CMD build --keep-empty-dirs --no-resave-data Rmagpie StartedAt: 2025-02-09 18:11:14 -0500 (Sun, 09 Feb 2025) EndedAt: 2025-02-09 18:11:57 -0500 (Sun, 09 Feb 2025) EllapsedTime: 43.4 seconds RetCode: 0 Status: OK PackageFile: Rmagpie_1.63.0.tar.gz PackageFileSize: 464.5 KiB