Package: Rmagpie Version: 1.63.0 Command: /home/biocbuild/bbs-3.21-bioc/R/bin/R CMD build --keep-empty-dirs --no-resave-data Rmagpie StartedAt: 2025-02-03 19:05:53 -0500 (Mon, 03 Feb 2025) EndedAt: 2025-02-03 19:06:25 -0500 (Mon, 03 Feb 2025) EllapsedTime: 32.0 seconds RetCode: 0 Status: OK PackageFile: Rmagpie_1.63.0.tar.gz PackageFileSize: 482 KiB