Package: Rmagpie Version: 1.63.0 Command: /home/biocbuild/bbs-3.21-bioc/R/bin/R CMD check --install=check:Rmagpie.install-out.txt --library=/home/biocbuild/bbs-3.21-bioc/R/site-library --timings Rmagpie_1.63.0.tar.gz StartedAt: 2025-02-04 02:04:31 -0500 (Tue, 04 Feb 2025) EndedAt: 2025-02-04 02:06:07 -0500 (Tue, 04 Feb 2025) EllapsedTime: 96.1 seconds RetCode: 0 Status: OK CheckDir: Rmagpie.Rcheck Warnings: 0