Package: Rmagpie Version: 1.63.0 Command: rm -rf Rmagpie.buildbin-libdir && mkdir Rmagpie.buildbin-libdir && E:\biocbuild\bbs-3.21-bioc\R\bin\R.exe CMD INSTALL --build --library=Rmagpie.buildbin-libdir Rmagpie_1.63.0.tar.gz StartedAt: 2025-02-10 08:34:09 -0500 (Mon, 10 Feb 2025) EndedAt: 2025-02-10 08:35:11 -0500 (Mon, 10 Feb 2025) EllapsedTime: 62.1 seconds RetCode: 0 Status: OK PackageFile: Rmagpie_1.63.0.zip PackageFileSize: 690.9 KiB