Package: Rmagpie Version: 1.63.0 Command: chmod a+r Rmagpie -R && E:\biocbuild\bbs-3.21-bioc\R\bin\R.exe CMD build --keep-empty-dirs --no-resave-data Rmagpie StartedAt: 2025-02-03 21:26:49 -0500 (Mon, 03 Feb 2025) EndedAt: 2025-02-03 21:27:57 -0500 (Mon, 03 Feb 2025) EllapsedTime: 68.0 seconds RetCode: 0 Status: OK PackageFile: Rmagpie_1.63.0.tar.gz PackageFileSize: 295 KiB