Package: Rmagpie Version: 1.63.0 Command: E:\biocbuild\bbs-3.21-bioc\R\bin\R.exe CMD check --no-multiarch --install=check:Rmagpie.install-out.txt --library=E:\biocbuild\bbs-3.21-bioc\R\library --no-vignettes --timings Rmagpie_1.63.0.tar.gz StartedAt: 2025-02-04 05:12:04 -0500 (Tue, 04 Feb 2025) EndedAt: 2025-02-04 05:13:43 -0500 (Tue, 04 Feb 2025) EllapsedTime: 98.4 seconds RetCode: 0 Status: OK CheckDir: Rmagpie.Rcheck Warnings: 0