Package: Rnits Version: 1.41.0 Command: rm -rf Rnits.buildbin-libdir && mkdir Rnits.buildbin-libdir && /Users/biocbuild/BBS/utils/build-universal.sh Rnits_1.41.0.tar.gz /Library/Frameworks/R.framework/Resources/bin/R Rnits.buildbin-libdir StartedAt: 2025-02-09 22:28:24 -0500 (Sun, 09 Feb 2025) EndedAt: 2025-02-09 22:28:28 -0500 (Sun, 09 Feb 2025) EllapsedTime: 4.1 seconds RetCode: 0 Status: OK PackageFile: Rnits_1.41.0.tgz PackageFileSize: 965 KiB