Package: Rnits Version: 1.41.0 Command: /home/biocbuild/R/R/bin/R CMD INSTALL Rnits StartedAt: 2025-01-29 19:43:45 -0000 (Wed, 29 Jan 2025) EndedAt: 2025-01-29 19:43:58 -0000 (Wed, 29 Jan 2025) EllapsedTime: 12.6 seconds RetCode: 0 Status: OK