Package: Rnits Version: 1.41.0 Command: /Library/Frameworks/R.framework/Resources/bin/R CMD build --keep-empty-dirs --no-resave-data Rnits StartedAt: 2025-02-04 18:05:36 -0500 (Tue, 04 Feb 2025) EndedAt: 2025-02-04 18:07:09 -0500 (Tue, 04 Feb 2025) EllapsedTime: 92.6 seconds RetCode: 0 Status: OK PackageFile: Rnits_1.41.0.tar.gz PackageFileSize: 655.4 KiB