Package: Rnits Version: 1.41.0 Command: /Library/Frameworks/R.framework/Resources/bin/R CMD check --install=check:Rnits.install-out.txt --library=/Library/Frameworks/R.framework/Resources/library --no-vignettes --timings Rnits_1.41.0.tar.gz StartedAt: 2025-02-09 23:11:41 -0500 (Sun, 09 Feb 2025) EndedAt: 2025-02-09 23:12:57 -0500 (Sun, 09 Feb 2025) EllapsedTime: 75.9 seconds RetCode: 0 Status: WARNINGS CheckDir: Rnits.Rcheck Warnings: 1