Package: Rnits Version: 1.41.0 Command: /home/biocbuild/bbs-3.21-bioc/R/bin/R CMD build --keep-empty-dirs --no-resave-data Rnits StartedAt: 2025-02-09 18:59:11 -0500 (Sun, 09 Feb 2025) EndedAt: 2025-02-09 19:00:23 -0500 (Sun, 09 Feb 2025) EllapsedTime: 72.1 seconds RetCode: 0 Status: OK PackageFile: Rnits_1.41.0.tar.gz PackageFileSize: 655.2 KiB