Package: Rnits Version: 1.41.0 Command: /home/biocbuild/bbs-3.21-bioc/R/bin/R CMD INSTALL Rnits StartedAt: 2025-02-03 15:22:00 -0500 (Mon, 03 Feb 2025) EndedAt: 2025-02-03 15:22:07 -0500 (Mon, 03 Feb 2025) EllapsedTime: 7.6 seconds RetCode: 0 Status: OK