Package: Rnits Version: 1.41.0 Command: chmod a+r Rnits -R && E:\biocbuild\bbs-3.21-bioc\R\bin\R.exe CMD build --keep-empty-dirs --no-resave-data Rnits StartedAt: 2025-02-09 21:15:12 -0500 (Sun, 09 Feb 2025) EndedAt: 2025-02-09 21:17:12 -0500 (Sun, 09 Feb 2025) EllapsedTime: 119.7 seconds RetCode: 0 Status: OK PackageFile: Rnits_1.41.0.tar.gz PackageFileSize: 656.3 KiB