Package: RolDE Version: 1.11.0 Command: /Library/Frameworks/R.framework/Resources/bin/R CMD build --keep-empty-dirs --no-resave-data RolDE StartedAt: 2025-02-05 17:28:57 -0500 (Wed, 05 Feb 2025) EndedAt: 2025-02-05 17:29:10 -0500 (Wed, 05 Feb 2025) EllapsedTime: 13.1 seconds RetCode: 0 Status: OK PackageFile: RolDE_1.11.0.tar.gz PackageFileSize: 1.267 MiB