Package: RolDE Version: 1.11.0 Command: /home/biocbuild/R/R/bin/R CMD build --keep-empty-dirs --no-resave-data RolDE StartedAt: 2025-01-29 01:49:56 -0000 (Wed, 29 Jan 2025) EndedAt: 2025-01-29 01:50:39 -0000 (Wed, 29 Jan 2025) EllapsedTime: 43.0 seconds RetCode: 0 Status: OK PackageFile: RolDE_1.11.0.tar.gz PackageFileSize: 1.244 MiB